BEGIN:VCALENDAR
VERSION:2.0
PRODID:-//diocese.church//eCatholic//EN
X-WR-TIMEZONE:LocalTZ
BEGIN:VTIMEZONE
TZID:LocalTZ
X-LIC-LOCATION:LocalTZ
BEGIN:DAYLIGHT
TZOFFSETFROM:-0600
TZOFFSETTO:-0500
TZNAME:LocalTZ
DTSTART:19700308T020000
RRULE:FREQ=YEARLY;BYMONTH=3;BYDAY=2SU
END:DAYLIGHT
BEGIN:STANDARD
TZOFFSETFROM:-0500
TZOFFSETTO:-0600
TZNAME:LocalTZ
DTSTART:19701101T020000
RRULE:FREQ=YEARLY;BYMONTH=11;BYDAY=1SU
END:STANDARD
END:VTIMEZONE
BEGIN:VEVENT
UID:1403912@diocese.church
DTSTAMP:20260421T210003Z
DTSTART:20260423T190000
DTEND:20260423T200000
RRULE:FREQ=WEEKLY;BYDAY=TH
SUMMARY:Theology on Tap
DESCRIPTION:Join us in the conference room of the Catholic Center for Theo
 logy on Tap with guest speaker\, Bishop Sanchez.
END:VEVENT
END:VCALENDAR
